BEGIN:VCALENDAR
VERSION:2.0
PRODID:-//CERN//INDICO//EN
BEGIN:VEVENT
SUMMARY:Practical Demonstration 7: X-Ray Spectroscopy based on COTS CMOS i
 mage sensors
DTSTART;VALUE=DATE-TIME:20190607T124500Z
DTEND;VALUE=DATE-TIME:20190607T133000Z
DTSTAMP;VALUE=DATE-TIME:20240229T222159Z
UID:indico-contribution-29@ictp.it
DESCRIPTION:Speakers: PEREZ\, M. (Balseiro Institute\, Argentina)\n//indic
 o.ictp.it/event/8689/session/4/contribution/29
LOCATION:ICTP Giambiagi Lecture Hall (AGH) 3-7 JuneKastler Lecture Hall (
 AGH) 10-14 June
URL://indico.ictp.it/event/8689/session/4/contribution/29
END:VEVENT
END:VCALENDAR
