BEGIN:VCALENDAR
VERSION:2.0
PRODID:-//CERN//INDICO//EN
BEGIN:VEVENT
SUMMARY:Lecture 19 (cont.): Examples of application of FFXRF to characteri
 ze CH objects
DTSTART;VALUE=DATE-TIME:20190610T084500Z
DTEND;VALUE=DATE-TIME:20190610T093000Z
DTSTAMP;VALUE=DATE-TIME:20240229T222216Z
UID:indico-contribution-33@ictp.it
DESCRIPTION:Speakers: ROMANO\, P. (INFN Catania)\, CALIRI\, C. (INFN Catan
 ia)\n//indico.ictp.it/event/8689/session/5/contribution/33
LOCATION:ICTP Giambiagi Lecture Hall (AGH) 3-7 JuneKastler Lecture Hall (
 AGH) 10-14 June
URL://indico.ictp.it/event/8689/session/5/contribution/33
END:VEVENT
END:VCALENDAR
