BEGIN:VCALENDAR
VERSION:2.0
PRODID:-//CERN//INDICO//EN
BEGIN:VEVENT
SUMMARY:Practical Demonstration 8: Assembling and operation of FFXRF
DTSTART;VALUE=DATE-TIME:20190610T093000Z
DTEND;VALUE=DATE-TIME:20190610T101500Z
DTSTAMP;VALUE=DATE-TIME:20240229T222128Z
UID:indico-contribution-34@ictp.it
DESCRIPTION:Speakers: MIGLIORI\, A. (IAEA)\, ROMANO\, P. (INFN Catania)\n/
 /indico.ictp.it/event/8689/session/5/contribution/34
LOCATION:ICTP MLab
URL://indico.ictp.it/event/8689/session/5/contribution/34
END:VEVENT
END:VCALENDAR
