BEGIN:VCALENDAR
VERSION:2.0
PRODID:-//CERN//INDICO//EN
BEGIN:VEVENT
SUMMARY:Lecture 21: Examples of application of XRF scanner for characteriz
 ation of paintings
DTSTART;VALUE=DATE-TIME:20190611T074500Z
DTEND;VALUE=DATE-TIME:20190611T083000Z
DTSTAMP;VALUE=DATE-TIME:20240229T222024Z
UID:indico-contribution-39@ictp.it
DESCRIPTION:Speakers: ROMANO\, P. (INFN Catania)\, CALIRI\, C. (INFN Catan
 ia)\n//indico.ictp.it/event/8689/session/6/contribution/39
LOCATION:ICTP Giambiagi Lecture Hall (AGH) 3-7 JuneKastler Lecture Hall (
 AGH) 10-14 June
URL://indico.ictp.it/event/8689/session/6/contribution/39
END:VEVENT
END:VCALENDAR
