BEGIN:VCALENDAR
VERSION:2.0
PRODID:-//CERN//INDICO//EN
BEGIN:VEVENT
SUMMARY:Lecture 2: ICTP projects in support of cultural heritage studies
DTSTART;VALUE=DATE-TIME:20190603T093000Z
DTEND;VALUE=DATE-TIME:20190603T101500Z
DTSTAMP;VALUE=DATE-TIME:20240229T222132Z
UID:indico-contribution-4@ictp.it
DESCRIPTION:Speakers: TUNIZ\, C. (IAEA)\n//indico.ictp.it/event/8689/sessi
 on/0/contribution/4
LOCATION:ICTP Giambiagi Lecture Hall (AGH) 3-7 JuneKastler Lecture Hall (
 AGH) 10-14 June
URL://indico.ictp.it/event/8689/session/0/contribution/4
END:VEVENT
END:VCALENDAR
