BEGIN:VCALENDAR
VERSION:2.0
PRODID:-//CERN//INDICO//EN
BEGIN:VEVENT
SUMMARY:Practical Demonstration 12: Measurement of glass and enamel using 
 micro-XRF
DTSTART;VALUE=DATE-TIME:20190613T093000Z
DTEND;VALUE=DATE-TIME:20190613T101500Z
DTSTAMP;VALUE=DATE-TIME:20240229T222106Z
UID:indico-contribution-54@ictp.it
DESCRIPTION:Speakers: MIGLIORI\, A. (IAEA)\, GRIESSER\, M. (Kunsthistorisc
 hes Museum Vienna)\n//indico.ictp.it/event/8689/session/8/contribution/54
LOCATION:ICTP MLab
URL://indico.ictp.it/event/8689/session/8/contribution/54
END:VEVENT
END:VCALENDAR
