BEGIN:VCALENDAR
VERSION:2.0
PRODID:-//CERN//INDICO//EN
BEGIN:VEVENT
SUMMARY:Group photo
DTSTART;VALUE=DATE-TIME:20190611T083000Z
DTEND;VALUE=DATE-TIME:20190611T083500Z
DTSTAMP;VALUE=DATE-TIME:20240229T222022Z
UID:indico-contribution-61@ictp.it
DESCRIPTION:Speakers: \n//indico.ictp.it/event/8689/session/6/contribution
 /61
LOCATION:ICTP Adriatico Guesthouse Terrace
URL://indico.ictp.it/event/8689/session/6/contribution/61
END:VEVENT
END:VCALENDAR
