BEGIN:VCALENDAR
VERSION:2.0
PRODID:-//CERN//INDICO//EN
BEGIN:VEVENT
SUMMARY:Practical Demonstration 4: Interpretation of XRF spectra The IAEA-
 QXAS
DTSTART;VALUE=DATE-TIME:20190606T070000Z
DTEND;VALUE=DATE-TIME:20190606T083000Z
DTSTAMP;VALUE=DATE-TIME:20240229T222149Z
UID:indico-contribution-3-0-19@ictp.it
DESCRIPTION:Speakers: PADILLA ALVAREZ\, R. (IAEA)\n//indico.ictp.it/event/
 8689/session/3/contribution/19
LOCATION:ICTP MLab
URL://indico.ictp.it/event/8689/session/3/contribution/19
END:VEVENT
BEGIN:VEVENT
SUMMARY:Practical Demonstration 5: Calibration options for quantitative av
 ailable in the IAEA-QXAS
DTSTART;VALUE=DATE-TIME:20190606T084500Z
DTEND;VALUE=DATE-TIME:20190606T101500Z
DTSTAMP;VALUE=DATE-TIME:20240229T222149Z
UID:indico-contribution-3-0-20@ictp.it
DESCRIPTION:Speakers: PADILLA ALVAREZ\, R. (IAEA)\n//indico.ictp.it/event/
 8689/session/3/contribution/20
LOCATION:ICTP MLab
URL://indico.ictp.it/event/8689/session/3/contribution/20
END:VEVENT
BEGIN:VEVENT
SUMMARY:Lecture 11: X-ray imaging. Principles and instrument design
DTSTART;VALUE=DATE-TIME:20190606T120000Z
DTEND;VALUE=DATE-TIME:20190606T124500Z
DTSTAMP;VALUE=DATE-TIME:20240229T222149Z
UID:indico-contribution-3-0-21@ictp.it
DESCRIPTION:Speakers: DREOSSI\, D. (Elettra Sincrotrone)\n//indico.ictp.it
 /event/8689/session/3/contribution/21
LOCATION:ICTP Giambiagi Lecture Hall (AGH) 3-7 JuneKastler Lecture Hall (
 AGH) 10-14 June
URL://indico.ictp.it/event/8689/session/3/contribution/21
END:VEVENT
BEGIN:VEVENT
SUMMARY:Practical Demonstration 6: x-ray imaging by micro CT: Main steps i
 n measurements\, image processing and interpretation
DTSTART;VALUE=DATE-TIME:20190606T124500Z
DTEND;VALUE=DATE-TIME:20190606T133000Z
DTSTAMP;VALUE=DATE-TIME:20240229T222149Z
UID:indico-contribution-3-0-23@ictp.it
DESCRIPTION:Speakers: DREOSSI\, D. (Elettra Sincrotrone)\n//indico.ictp.it
 /event/8689/session/3/contribution/23
LOCATION:ICTP Giambiagi Lecture Hall (AGH) 3-7 JuneKastler Lecture Hall (
 AGH) 10-14 June
URL://indico.ictp.it/event/8689/session/3/contribution/23
END:VEVENT
BEGIN:VEVENT
SUMMARY:Lecture 12: Whose bones are they? Hominin fossils as cultural heri
 tage and biological archive of humankind
DTSTART;VALUE=DATE-TIME:20190606T134500Z
DTEND;VALUE=DATE-TIME:20190606T143000Z
DTSTAMP;VALUE=DATE-TIME:20240229T222149Z
UID:indico-contribution-3-0-22@ictp.it
DESCRIPTION:Speakers: TUNIZ\, C. (ICTP)\n//indico.ictp.it/event/8689/sessi
 on/3/contribution/22
LOCATION:ICTP Giambiagi Lecture Hall (AGH) 3-7 JuneKastler Lecture Hall (
 AGH) 10-14 June
URL://indico.ictp.it/event/8689/session/3/contribution/22
END:VEVENT
END:VCALENDAR
