BEGIN:VCALENDAR
VERSION:2.0
PRODID:-//CERN//INDICO//EN
BEGIN:VEVENT
SUMMARY:Lecture 13: Synchrotron techniques for characterization of CH obje
 cts
DTSTART;VALUE=DATE-TIME:20190607T070000Z
DTEND;VALUE=DATE-TIME:20190607T074500Z
DTSTAMP;VALUE=DATE-TIME:20240229T222004Z
UID:indico-contribution-4-0-24@ictp.it
DESCRIPTION:Speakers: ZANINI\, F. (Elettra Sincrotrone)\n//indico.ictp.it/
 event/8689/session/4/contribution/24
LOCATION:ICTP Giambiagi Lecture Hall (AGH) 3-7 JuneKastler Lecture Hall (
 AGH) 10-14 June
URL://indico.ictp.it/event/8689/session/4/contribution/24
END:VEVENT
BEGIN:VEVENT
SUMMARY:Lecture 14: Portable XRF-XRD for characterization of valuable obje
 cts
DTSTART;VALUE=DATE-TIME:20190607T074500Z
DTEND;VALUE=DATE-TIME:20190607T083000Z
DTSTAMP;VALUE=DATE-TIME:20240229T222004Z
UID:indico-contribution-4-0-25@ictp.it
DESCRIPTION:Speakers: GIANONCELLI\, A. (Elettra Sincrotrone)\n//indico.ict
 p.it/event/8689/session/4/contribution/25
LOCATION:ICTP Giambiagi Lecture Hall (AGH) 3-7 JuneKastler Lecture Hall (
 AGH) 10-14 June
URL://indico.ictp.it/event/8689/session/4/contribution/25
END:VEVENT
BEGIN:VEVENT
SUMMARY:Lecture 15: Examples of application studies conducted at IAEA XSpe
  end-station
DTSTART;VALUE=DATE-TIME:20190607T084500Z
DTEND;VALUE=DATE-TIME:20190607T093000Z
DTSTAMP;VALUE=DATE-TIME:20240229T222004Z
UID:indico-contribution-4-0-26@ictp.it
DESCRIPTION:Speakers: SIBILIA\, M. (Elettra Sincrotrone)\n//indico.ictp.it
 /event/8689/session/4/contribution/26
LOCATION:ICTP Giambiagi Lecture Hall (AGH) 3-7 JuneKastler Lecture Hall (
 AGH) 10-14 June
URL://indico.ictp.it/event/8689/session/4/contribution/26
END:VEVENT
BEGIN:VEVENT
SUMMARY:Lecture 16: Examples of application studies conducted at ELETTTRA 
 synchrotron
DTSTART;VALUE=DATE-TIME:20190607T093000Z
DTEND;VALUE=DATE-TIME:20190607T101500Z
DTSTAMP;VALUE=DATE-TIME:20240229T222004Z
UID:indico-contribution-4-0-27@ictp.it
DESCRIPTION:Speakers: MANCINI\, L. (Elettra Sincrotrone)\n//indico.ictp.it
 /event/8689/session/4/contribution/27
LOCATION:ICTP Giambiagi Lecture Hall (AGH) 3-7 JuneKastler Lecture Hall (
 AGH) 10-14 June
URL://indico.ictp.it/event/8689/session/4/contribution/27
END:VEVENT
BEGIN:VEVENT
SUMMARY:Lecture 17: Design of transportable XRF units: Considerations and 
 options
DTSTART;VALUE=DATE-TIME:20190607T120000Z
DTEND;VALUE=DATE-TIME:20190607T124500Z
DTSTAMP;VALUE=DATE-TIME:20240229T222004Z
UID:indico-contribution-4-0-28@ictp.it
DESCRIPTION:Speakers: CRESPO\, M.L. (ICTP)\, PADILLA ALVAREZ\, R. (IAEA)\n
 //indico.ictp.it/event/8689/session/4/contribution/28
LOCATION:ICTP Giambiagi Lecture Hall (AGH) 3-7 JuneKastler Lecture Hall (
 AGH) 10-14 June
URL://indico.ictp.it/event/8689/session/4/contribution/28
END:VEVENT
BEGIN:VEVENT
SUMMARY:Practical Demonstration 7: X-Ray Spectroscopy based on COTS CMOS i
 mage sensors
DTSTART;VALUE=DATE-TIME:20190607T124500Z
DTEND;VALUE=DATE-TIME:20190607T133000Z
DTSTAMP;VALUE=DATE-TIME:20240229T222004Z
UID:indico-contribution-4-0-29@ictp.it
DESCRIPTION:Speakers: PEREZ\, M. (Balseiro Institute\, Argentina)\n//indic
 o.ictp.it/event/8689/session/4/contribution/29
LOCATION:ICTP Giambiagi Lecture Hall (AGH) 3-7 JuneKastler Lecture Hall (
 AGH) 10-14 June
URL://indico.ictp.it/event/8689/session/4/contribution/29
END:VEVENT
BEGIN:VEVENT
SUMMARY:Reserved for compilation of notes and discussions
DTSTART;VALUE=DATE-TIME:20190607T134500Z
DTEND;VALUE=DATE-TIME:20190607T153000Z
DTSTAMP;VALUE=DATE-TIME:20240229T222004Z
UID:indico-contribution-4-0-30@ictp.it
DESCRIPTION:Speakers: \n//indico.ictp.it/event/8689/session/4/contribution
 /30
LOCATION:ICTP Giambiagi Lecture Hall (AGH) 3-7 JuneKastler Lecture Hall (
 AGH) 10-14 June
URL://indico.ictp.it/event/8689/session/4/contribution/30
END:VEVENT
END:VCALENDAR
