BEGIN:VCALENDAR
VERSION:2.0
PRODID:-//CERN//INDICO//EN
BEGIN:VEVENT
SUMMARY:Contributed talk 2  “Thermoelectric efficiency of molecular junc
 tions”
DTSTART;VALUE=DATE-TIME:20190624T151000Z
DTEND;VALUE=DATE-TIME:20190624T153500Z
DTSTAMP;VALUE=DATE-TIME:20240229T220852Z
UID:indico-contribution-12@ictp.it
DESCRIPTION:Speakers: CARMINE ANTONIO PERRONI ()\n//indico.ictp.it/event/8
 693/session/4/contribution/12
LOCATION:ICTP Adriatico Guest House - Kastler Lecture Hall
URL://indico.ictp.it/event/8693/session/4/contribution/12
END:VEVENT
END:VCALENDAR
