BEGIN:VCALENDAR
VERSION:2.0
PRODID:-//CERN//INDICO//EN
BEGIN:VEVENT
SUMMARY:Welcome reception
DTSTART;VALUE=DATE-TIME:20190624T173000Z
DTEND;VALUE=DATE-TIME:20190624T190000Z
DTSTAMP;VALUE=DATE-TIME:20240229T220849Z
UID:indico-contribution-13@ictp.it
DESCRIPTION:Speakers: \nAll participants are cordially invited to attend t
 he welcome reception.\n\n//indico.ictp.it/event/8693/session/4/contributio
 n/13
LOCATION:ICTP Adriatico Guest House - Kastler Lecture Hall
URL://indico.ictp.it/event/8693/session/4/contribution/13
END:VEVENT
END:VCALENDAR
