BEGIN:VCALENDAR
VERSION:2.0
PRODID:-//CERN//INDICO//EN
BEGIN:VEVENT
SUMMARY:Contributed talk 3  “Tuning thermal and mechanical properties of
  porous 2D materials by pore topology engineering”
DTSTART;VALUE=DATE-TIME:20190625T140000Z
DTEND;VALUE=DATE-TIME:20190625T142500Z
DTSTAMP;VALUE=DATE-TIME:20240229T220834Z
UID:indico-contribution-20@ictp.it
DESCRIPTION:Speakers: ALI RAJABPOUR ()\n//indico.ictp.it/event/8693/sessio
 n/5/contribution/20
LOCATION:ICTP Adriatico Guest House - Kastler Lecture Hall
URL://indico.ictp.it/event/8693/session/5/contribution/20
END:VEVENT
END:VCALENDAR
