BEGIN:VCALENDAR
VERSION:2.0
PRODID:-//CERN//INDICO//EN
BEGIN:VEVENT
SUMMARY:Contributed talk 4  “Thermal conductivity of semiconductor bulk-
 unconventional phases: the role of anharmonicity and phase space”
DTSTART;VALUE=DATE-TIME:20190625T142500Z
DTEND;VALUE=DATE-TIME:20190625T145000Z
DTSTAMP;VALUE=DATE-TIME:20240229T220852Z
UID:indico-contribution-21@ictp.it
DESCRIPTION:Speakers: MARTÍ RAYA MORENO ()\n//indico.ictp.it/event/8693/s
 ession/5/contribution/21
LOCATION:ICTP Adriatico Guest House - Kastler Lecture Hall
URL://indico.ictp.it/event/8693/session/5/contribution/21
END:VEVENT
END:VCALENDAR
