BEGIN:VCALENDAR
VERSION:2.0
PRODID:-//CERN//INDICO//EN
BEGIN:VEVENT
SUMMARY:Invited talk 10 “Heat Transport Mediated by Phonons\, Electrons\
 , and Spins in Low-Dimensional Systems”
DTSTART;VALUE=DATE-TIME:20190626T070000Z
DTEND;VALUE=DATE-TIME:20190626T074500Z
DTSTAMP;VALUE=DATE-TIME:20240229T220854Z
UID:indico-contribution-23@ictp.it
DESCRIPTION:Speakers: LI SHI ()\n//indico.ictp.it/event/8693/session/6/con
 tribution/23
LOCATION:ICTP Adriatico Guest House - Kastler Lecture Hall
URL://indico.ictp.it/event/8693/session/6/contribution/23
END:VEVENT
END:VCALENDAR
