BEGIN:VCALENDAR
VERSION:2.0
PRODID:-//CERN//INDICO//EN
BEGIN:VEVENT
SUMMARY:Invited talk 17 “From glasses to nanocomposites: the dramatic ef
 fect of elastic heterogeneities on phonon dynamics and thermal transport
 ”
DTSTART;VALUE=DATE-TIME:20190627T094500Z
DTEND;VALUE=DATE-TIME:20190627T103000Z
DTSTAMP;VALUE=DATE-TIME:20240229T220838Z
UID:indico-contribution-30@ictp.it
DESCRIPTION:Speakers: VALENTINA GIORDANO ()\n//indico.ictp.it/event/8693/s
 ession/7/contribution/30
LOCATION:ICTP Adriatico Guest House - Kastler Lecture Hall
URL://indico.ictp.it/event/8693/session/7/contribution/30
END:VEVENT
END:VCALENDAR
