BEGIN:VCALENDAR
VERSION:2.0
PRODID:-//CERN//INDICO//EN
BEGIN:VEVENT
SUMMARY:Invited talk 18 “Randomness and Localization Effects in Heat Con
 duction”
DTSTART;VALUE=DATE-TIME:20190627T120000Z
DTEND;VALUE=DATE-TIME:20190627T124500Z
DTSTAMP;VALUE=DATE-TIME:20240229T220840Z
UID:indico-contribution-31@ictp.it
DESCRIPTION:Speakers: SEBASTIAN VOLZ ()\n//indico.ictp.it/event/8693/sessi
 on/7/contribution/31
LOCATION:ICTP Adriatico Guest House - Kastler Lecture Hall
URL://indico.ictp.it/event/8693/session/7/contribution/31
END:VEVENT
END:VCALENDAR
