BEGIN:VCALENDAR
VERSION:2.0
PRODID:-//CERN//INDICO//EN
BEGIN:VEVENT
SUMMARY:Invited talk 19 “Towards an all-electric control of the heat flu
 x”
DTSTART;VALUE=DATE-TIME:20190627T124500Z
DTEND;VALUE=DATE-TIME:20190627T133000Z
DTSTAMP;VALUE=DATE-TIME:20240229T220832Z
UID:indico-contribution-32@ictp.it
DESCRIPTION:Speakers: RICCARDO RURALI ()\n//indico.ictp.it/event/8693/sess
 ion/7/contribution/32
LOCATION:ICTP Adriatico Guest House - Kastler Lecture Hall
URL://indico.ictp.it/event/8693/session/7/contribution/32
END:VEVENT
END:VCALENDAR
