BEGIN:VCALENDAR
VERSION:2.0
PRODID:-//CERN//INDICO//EN
BEGIN:VEVENT
SUMMARY:Contributed talk 5 “Stressed anharmonic chains in 3D within the 
 framework of the nonlinear fluctuating hydrodynamic theory”
DTSTART;VALUE=DATE-TIME:20190627T144500Z
DTEND;VALUE=DATE-TIME:20190627T151000Z
DTSTAMP;VALUE=DATE-TIME:20240229T220914Z
UID:indico-contribution-34@ictp.it
DESCRIPTION:Speakers: MARIA FLORENCIA CARUSELA ()\n//indico.ictp.it/event/
 8693/session/7/contribution/34
LOCATION:ICTP Adriatico Guest House - Kastler Lecture Hall
URL://indico.ictp.it/event/8693/session/7/contribution/34
END:VEVENT
END:VCALENDAR
