BEGIN:VCALENDAR
VERSION:2.0
PRODID:-//CERN//INDICO//EN
BEGIN:VEVENT
SUMMARY:Group photo
DTSTART;VALUE=DATE-TIME:20190625T083000Z
DTEND;VALUE=DATE-TIME:20190625T083500Z
DTSTAMP;VALUE=DATE-TIME:20240229T220919Z
UID:indico-contribution-41@ictp.it
DESCRIPTION:Speakers: \n//indico.ictp.it/event/8693/session/5/contribution
 /41
LOCATION:ICTP Adriatico Guest House - Kastler Lecture Hall
URL://indico.ictp.it/event/8693/session/5/contribution/41
END:VEVENT
END:VCALENDAR
