BEGIN:VCALENDAR
VERSION:2.0
PRODID:-//CERN//INDICO//EN
BEGIN:VEVENT
SUMMARY:1. Fundamentals of Water Cooled Reactors
DTSTART;VALUE=DATE-TIME:20190624T093000Z
DTEND;VALUE=DATE-TIME:20190624T103000Z
DTSTAMP;VALUE=DATE-TIME:20240229T220447Z
UID:indico-contribution-1-0-3@ictp.it
DESCRIPTION:Speakers: MIASSOEDOV\, Alexei (IAEA)\n//indico.ictp.it/event/8
 694/session/1/contribution/3
LOCATION:ICTP Euler Lecture Hall (LB)
URL://indico.ictp.it/event/8694/session/1/contribution/3
END:VEVENT
BEGIN:VEVENT
SUMMARY:2. Nuclear Safety of Water Cooled Reactors
DTSTART;VALUE=DATE-TIME:20190624T120000Z
DTEND;VALUE=DATE-TIME:20190624T130000Z
DTSTAMP;VALUE=DATE-TIME:20240229T220447Z
UID:indico-contribution-1-0-4@ictp.it
DESCRIPTION:Speakers: FICHOT\, Florian (IRSN)\n//indico.ictp.it/event/8694
 /session/1/contribution/4
LOCATION:ICTP Euler Lecture Hall (LB)
URL://indico.ictp.it/event/8694/session/1/contribution/4
END:VEVENT
BEGIN:VEVENT
SUMMARY:3. Defense-in-Depth and Design Plant Envelope
DTSTART;VALUE=DATE-TIME:20190624T130000Z
DTEND;VALUE=DATE-TIME:20190624T140000Z
DTSTAMP;VALUE=DATE-TIME:20240229T220447Z
UID:indico-contribution-1-0-5@ictp.it
DESCRIPTION:Speakers: MASSARA\, Simone (IAEA)\n//indico.ictp.it/event/8694
 /session/1/contribution/5
LOCATION:ICTP Euler Lecture Hall (LB)
URL://indico.ictp.it/event/8694/session/1/contribution/5
END:VEVENT
BEGIN:VEVENT
SUMMARY:4. Progression of Fukushima Daiichi Accident and its Consequences
DTSTART;VALUE=DATE-TIME:20190624T141500Z
DTEND;VALUE=DATE-TIME:20190624T153000Z
DTSTAMP;VALUE=DATE-TIME:20240229T220447Z
UID:indico-contribution-1-0-6@ictp.it
DESCRIPTION:Speakers: HERRANZ\, Luis (Ciemat)\n//indico.ictp.it/event/8694
 /session/1/contribution/6
LOCATION:ICTP Euler Lecture Hall (LB)
URL://indico.ictp.it/event/8694/session/1/contribution/6
END:VEVENT
END:VCALENDAR
