BEGIN:VCALENDAR
VERSION:2.0
PRODID:-//CERN//INDICO//EN
BEGIN:VEVENT
SUMMARY:Closing Remarks: ICTP & IAEA
DTSTART;VALUE=DATE-TIME:20190628T141500Z
DTEND;VALUE=DATE-TIME:20190628T153000Z
DTSTAMP;VALUE=DATE-TIME:20240229T220547Z
UID:indico-event-14-0@ictp.it
DESCRIPTION://indico.ictp.it/event/8694/session/14/?slotId=0
LOCATION:ICTP Euler Lecture Hall (LB)
URL://indico.ictp.it/event/8694/session/14/?slotId=0
END:VEVENT
END:VCALENDAR
