BEGIN:VCALENDAR
VERSION:2.0
PRODID:-//CERN//INDICO//EN
BEGIN:VEVENT
SUMMARY:Lecture 3: Algebraic and combinatorial tools
DTSTART;VALUE=DATE-TIME:20190703T093000Z
DTEND;VALUE=DATE-TIME:20190703T110000Z
DTSTAMP;VALUE=DATE-TIME:20240229T215742Z
UID:indico-contribution-12@ictp.it
DESCRIPTION:Speakers: DICKENSTEIN\, Alicia (Universidad de Buenos Aires)\n
 //indico.ictp.it/event/8695/session/3/contribution/12
LOCATION:ICTP Budinich Lecture Hall (LB)
URL://indico.ictp.it/event/8695/session/3/contribution/12
END:VEVENT
END:VCALENDAR
