BEGIN:VCALENDAR
VERSION:2.0
PRODID:-//CERN//INDICO//EN
BEGIN:VEVENT
SUMMARY:Exercise/Software session 3
DTSTART;VALUE=DATE-TIME:20190704T120000Z
DTEND;VALUE=DATE-TIME:20190704T131500Z
DTSTAMP;VALUE=DATE-TIME:20240229T215715Z
UID:indico-contribution-15@ictp.it
DESCRIPTION:Speakers: WEINSTEIN\, Madeleine ()\n//indico.ictp.it/event/869
 5/session/5/contribution/15
LOCATION:ICTP Budinich Lecture Hall (LB)
URL://indico.ictp.it/event/8695/session/5/contribution/15
END:VEVENT
END:VCALENDAR
