BEGIN:VCALENDAR
VERSION:2.0
PRODID:-//CERN//INDICO//EN
BEGIN:VEVENT
SUMMARY:Contributed talk 3: "On the product of the singular values of a bi
 nary tensor"
DTSTART;VALUE=DATE-TIME:20190704T134500Z
DTEND;VALUE=DATE-TIME:20190704T141500Z
DTSTAMP;VALUE=DATE-TIME:20240229T215645Z
UID:indico-contribution-16@ictp.it
DESCRIPTION:Speakers: SODOMACO\, Luca ()\n//indico.ictp.it/event/8695/sess
 ion/5/contribution/16
LOCATION:ICTP Budinich Lecture Hall (LB)
URL://indico.ictp.it/event/8695/session/5/contribution/16
END:VEVENT
END:VCALENDAR
