BEGIN:VCALENDAR
VERSION:2.0
PRODID:-//CERN//INDICO//EN
BEGIN:VEVENT
SUMMARY:Contributed talk 6: "Logarithmic differential forms and applicatio
 ns"
DTSTART;VALUE=DATE-TIME:20190705T120000Z
DTEND;VALUE=DATE-TIME:20190705T123000Z
DTSTAMP;VALUE=DATE-TIME:20240229T215730Z
UID:indico-contribution-21@ictp.it
DESCRIPTION:Speakers: ALEKSANDROV\, Aleksandr ()\n//indico.ictp.it/event/8
 695/session/6/contribution/21
LOCATION:ICTP Budinich Lecture Hall (LB)
URL://indico.ictp.it/event/8695/session/6/contribution/21
END:VEVENT
END:VCALENDAR
