BEGIN:VCALENDAR
VERSION:2.0
PRODID:-//CERN//INDICO//EN
BEGIN:VEVENT
SUMMARY:Contributed talk 7: "The twisted cotangent bundle of a hyperkahler
  manifold"
DTSTART;VALUE=DATE-TIME:20190705T123000Z
DTEND;VALUE=DATE-TIME:20190705T130000Z
DTSTAMP;VALUE=DATE-TIME:20240229T215737Z
UID:indico-contribution-22@ictp.it
DESCRIPTION:Speakers: ANELLA\, Fabrizio ()\n//indico.ictp.it/event/8695/se
 ssion/6/contribution/22
LOCATION:ICTP Budinich Lecture Hall (LB)
URL://indico.ictp.it/event/8695/session/6/contribution/22
END:VEVENT
END:VCALENDAR
