BEGIN:VCALENDAR
VERSION:2.0
PRODID:-//CERN//INDICO//EN
BEGIN:VEVENT
SUMMARY:Lecture 3: Classical projective invariants
DTSTART;VALUE=DATE-TIME:20190702T120000Z
DTEND;VALUE=DATE-TIME:20190702T133000Z
DTSTAMP;VALUE=DATE-TIME:20240229T215738Z
UID:indico-contribution-9@ictp.it
DESCRIPTION:Speakers: DI ROCCO\, Sandra (KTH Royal Institute of Technology
  Stockholm)\n//indico.ictp.it/event/8695/session/2/contribution/9
LOCATION:ICTP Budinich Lecture Hall (LB)
URL://indico.ictp.it/event/8695/session/2/contribution/9
END:VEVENT
END:VCALENDAR
