BEGIN:VCALENDAR
VERSION:2.0
PRODID:-//CERN//INDICO//EN
BEGIN:VEVENT
SUMMARY:Transport and mixing at the ocean mesoscale
DTSTART;VALUE=DATE-TIME:20190717T074500Z
DTEND;VALUE=DATE-TIME:20190717T083000Z
DTSTAMP;VALUE=DATE-TIME:20240229T214948Z
UID:indico-contribution-16@ictp.it
DESCRIPTION:Speakers: ANNALISA BRACCO (Georgia Institute of Technology)\n/
 /indico.ictp.it/event/8702/session/3/contribution/16
LOCATION:ICTP Giambiagi Lecture Hall (AGH)
URL://indico.ictp.it/event/8702/session/3/contribution/16
END:VEVENT
END:VCALENDAR
