BEGIN:VCALENDAR
VERSION:2.0
PRODID:-//CERN//INDICO//EN
BEGIN:VEVENT
SUMMARY:Coupled atmosphere-ocean feedbacks
DTSTART;VALUE=DATE-TIME:20190717T101500Z
DTEND;VALUE=DATE-TIME:20190717T110000Z
DTSTAMP;VALUE=DATE-TIME:20240229T214919Z
UID:indico-contribution-19@ictp.it
DESCRIPTION:Speakers: ART MILLER (Scripps Institute of Oceanography)\n//in
 dico.ictp.it/event/8702/session/3/contribution/19
LOCATION:ICTP Giambiagi Lecture Hall (AGH)
URL://indico.ictp.it/event/8702/session/3/contribution/19
END:VEVENT
END:VCALENDAR
