BEGIN:VCALENDAR
VERSION:2.0
PRODID:-//CERN//INDICO//EN
BEGIN:VEVENT
SUMMARY:Debate on climate change in EBUS: selection of hypotheses from the
  literature
DTSTART;VALUE=DATE-TIME:20190719T140000Z
DTEND;VALUE=DATE-TIME:20190719T153000Z
DTSTAMP;VALUE=DATE-TIME:20240229T215530Z
UID:indico-contribution-32@ictp.it
DESCRIPTION:Speakers: \nStudents\n\n//indico.ictp.it/event/8702/session/5/
 contribution/32
LOCATION:ICTP Giambiagi Lecture Hall (AGH)
URL://indico.ictp.it/event/8702/session/5/contribution/32
END:VEVENT
END:VCALENDAR
