BEGIN:VCALENDAR
VERSION:2.0
PRODID:-//CERN//INDICO//EN
BEGIN:VEVENT
SUMMARY:Administrative formalities
DTSTART;VALUE=DATE-TIME:20190715T063000Z
DTEND;VALUE=DATE-TIME:20190715T070000Z
DTSTAMP;VALUE=DATE-TIME:20240229T215211Z
UID:indico-contribution-0-0-0@ictp.it
DESCRIPTION:Speakers: \nREGISTRATION: Upon arrival\, Visitors not staying 
 in the ICTP Guest Houses\, are kindly requested  to complete registration 
 formalities at the Adriatico Guesthouse as follows: \nOffice 3 (Lower leve
 l) from 8.30 till 9.00.\n\n//indico.ictp.it/event/8702/session/0/contribut
 ion/0
LOCATION:ICTP Giambiagi Lecture Hall (AGH)
URL://indico.ictp.it/event/8702/session/0/contribution/0
END:VEVENT
BEGIN:VEVENT
SUMMARY:Introduction of Lecturers and Participants
DTSTART;VALUE=DATE-TIME:20190715T070000Z
DTEND;VALUE=DATE-TIME:20190715T073000Z
DTSTAMP;VALUE=DATE-TIME:20240229T215211Z
UID:indico-contribution-0-0-1@ictp.it
DESCRIPTION:Speakers: \n//indico.ictp.it/event/8702/session/0/contribution
 /1
LOCATION:ICTP Giambiagi Lecture Hall (AGH)
URL://indico.ictp.it/event/8702/session/0/contribution/1
END:VEVENT
BEGIN:VEVENT
SUMMARY:Role of international efforts on Climate change including EBUS
DTSTART;VALUE=DATE-TIME:20190715T073000Z
DTEND;VALUE=DATE-TIME:20190715T074500Z
DTSTAMP;VALUE=DATE-TIME:20240229T215211Z
UID:indico-contribution-0-0-2@ictp.it
DESCRIPTION:Speakers: ITAHISA DENIZ GONZALEZ (IOC\, UNESCO)\n//indico.ictp
 .it/event/8702/session/0/contribution/2
LOCATION:ICTP Giambiagi Lecture Hall (AGH)
URL://indico.ictp.it/event/8702/session/0/contribution/2
END:VEVENT
BEGIN:VEVENT
SUMMARY:Eastern Boundary Upwelling Systems: importance and critical proces
 ses
DTSTART;VALUE=DATE-TIME:20190715T074500Z
DTEND;VALUE=DATE-TIME:20190715T083000Z
DTSTAMP;VALUE=DATE-TIME:20240229T215211Z
UID:indico-contribution-0-0-3@ictp.it
DESCRIPTION:Speakers: ANNALISA BRACCO (GEORGIA INSTITUTE OF TECHNOLOGY)\, 
 ALBAN LAZAR (UNIVERSITY PIERRE AND MARIE CURIE)\, RYAN RYKACZEWSKI (UNIVER
 SITY SOUTH CAROLINA)\, THOMAS TONIAZZO (BJERKNES CENTRE FOR CLIMATE RESEAR
 CH\, BERGEN)\, RICCARDO FARNETI (ICTP) ()\n//indico.ictp.it/event/8702/ses
 sion/0/contribution/3
LOCATION:ICTP Giambiagi Lecture Hall (AGH)
URL://indico.ictp.it/event/8702/session/0/contribution/3
END:VEVENT
BEGIN:VEVENT
SUMMARY:Historical variability in EBUS and considerations about their futu
 re
DTSTART;VALUE=DATE-TIME:20190715T084500Z
DTEND;VALUE=DATE-TIME:20190715T093000Z
DTSTAMP;VALUE=DATE-TIME:20240229T215211Z
UID:indico-contribution-0-0-4@ictp.it
DESCRIPTION:Speakers: RYAN RYKACZEWSKI (University South Carolina)\n//indi
 co.ictp.it/event/8702/session/0/contribution/4
LOCATION:ICTP Giambiagi Lecture Hall (AGH)
URL://indico.ictp.it/event/8702/session/0/contribution/4
END:VEVENT
BEGIN:VEVENT
SUMMARY:Climatology of the atmospheric circulation
DTSTART;VALUE=DATE-TIME:20190715T093000Z
DTEND;VALUE=DATE-TIME:20190715T101500Z
DTSTAMP;VALUE=DATE-TIME:20240229T215211Z
UID:indico-contribution-0-0-5@ictp.it
DESCRIPTION:Speakers: THOMAS TONIAZZO (Bjerknes Centre for Climate Researc
 h\, Bergen)\n//indico.ictp.it/event/8702/session/0/contribution/5
LOCATION:ICTP Giambiagi Lecture Hall (AGH)
URL://indico.ictp.it/event/8702/session/0/contribution/5
END:VEVENT
BEGIN:VEVENT
SUMMARY:Climatological ocean dynamics
DTSTART;VALUE=DATE-TIME:20190715T101500Z
DTEND;VALUE=DATE-TIME:20190715T110000Z
DTSTAMP;VALUE=DATE-TIME:20240229T215211Z
UID:indico-contribution-0-0-6@ictp.it
DESCRIPTION:Speakers: MARTIN SCHMIDT (Leibniz Institute for Baltic Sea Res
 earch)\n//indico.ictp.it/event/8702/session/0/contribution/6
LOCATION:ICTP Giambiagi Lecture Hall (AGH)
URL://indico.ictp.it/event/8702/session/0/contribution/6
END:VEVENT
BEGIN:VEVENT
SUMMARY:Financial Formalities
DTSTART;VALUE=DATE-TIME:20190715T113000Z
DTEND;VALUE=DATE-TIME:20190715T123000Z
DTSTAMP;VALUE=DATE-TIME:20240229T215211Z
UID:indico-contribution-0-0-37@ictp.it
DESCRIPTION:Speakers: \nTRAVEL UNIT (Only for those Visitors receiving dai
 ly living allowance/travel reimbursement)  \nOnly after having completed r
 egistration formalities\, please go to the Travel Unit\, EF\, MainEntrance
 \, Room T17\, ground floor\, from 13.30 - 14.30  \nPlease bring with you: 
 badge/identity card or passport/any travel tickets and boarding passes\, i
 f reimbursement due.\n\n//indico.ictp.it/event/8702/session/0/contribution
 /37
LOCATION:ICTP Enrico Fermi Building
URL://indico.ictp.it/event/8702/session/0/contribution/37
END:VEVENT
BEGIN:VEVENT
SUMMARY:The NetCDF format\, data sources\, and analysis tools
DTSTART;VALUE=DATE-TIME:20190715T140000Z
DTEND;VALUE=DATE-TIME:20190715T153000Z
DTSTAMP;VALUE=DATE-TIME:20240229T215211Z
UID:indico-contribution-0-0-7@ictp.it
DESCRIPTION:Speakers: \nIntroduction: Martin SCHMIDT\, supervision: Lectur
 ers\n\n//indico.ictp.it/event/8702/session/0/contribution/7
LOCATION:ICTP Giambiagi Lecture Hall (AGH)
URL://indico.ictp.it/event/8702/session/0/contribution/7
END:VEVENT
END:VCALENDAR
