BEGIN:VCALENDAR
VERSION:2.0
PRODID:-//CERN//INDICO//EN
BEGIN:VEVENT
SUMMARY:Quantum Acoustics Experiments
DTSTART;VALUE=DATE-TIME:20190729T120000Z
DTEND;VALUE=DATE-TIME:20190729T124000Z
DTSTAMP;VALUE=DATE-TIME:20240229T214632Z
UID:indico-contribution-33@ictp.it
DESCRIPTION:Speakers: SIMON GROEBLACHER (TU Delft)\n//indico.ictp.it/event
 /8705/session/4/contribution/33
LOCATION:ICTP Leonardo Building - Budinich Lecture Hall
URL://indico.ictp.it/event/8705/session/4/contribution/33
END:VEVENT
END:VCALENDAR
