BEGIN:VCALENDAR
VERSION:2.0
PRODID:-//CERN//INDICO//EN
BEGIN:VEVENT
SUMMARY:Fluctuation Relation and Detailed Balance in open quantum systems
DTSTART;VALUE=DATE-TIME:20190729T150000Z
DTEND;VALUE=DATE-TIME:20190729T152000Z
DTSTAMP;VALUE=DATE-TIME:20240229T214534Z
UID:indico-contribution-38@ictp.it
DESCRIPTION:Speakers: STEFANO MARCANTONI (University of Trieste)\n//indico
 .ictp.it/event/8705/session/4/contribution/38
LOCATION:ICTP Leonardo Building - Budinich Lecture Hall
URL://indico.ictp.it/event/8705/session/4/contribution/38
END:VEVENT
END:VCALENDAR
