BEGIN:VCALENDAR
VERSION:2.0
PRODID:-//CERN//INDICO//EN
BEGIN:VEVENT
SUMMARY:Sources of Double Phonon Frequency Oscillation in Pump-Probe Noise
  Spectroscopy
DTSTART;VALUE=DATE-TIME:20190730T100000Z
DTEND;VALUE=DATE-TIME:20190730T102000Z
DTSTAMP;VALUE=DATE-TIME:20240229T214508Z
UID:indico-contribution-45@ictp.it
DESCRIPTION:Speakers: MASSIL LAKEHAL (Universite Paris Diderot)\n//indico.
 ictp.it/event/8705/session/5/contribution/45
LOCATION:ICTP Leonardo Building - Budinich Lecture Hall
URL://indico.ictp.it/event/8705/session/5/contribution/45
END:VEVENT
END:VCALENDAR
