BEGIN:VCALENDAR
VERSION:2.0
PRODID:-//CERN//INDICO//EN
BEGIN:VEVENT
SUMMARY:Topological Insulators in Quantum Heat Engines
DTSTART;VALUE=DATE-TIME:20190730T130000Z
DTEND;VALUE=DATE-TIME:20190730T132000Z
DTSTAMP;VALUE=DATE-TIME:20240229T214535Z
UID:indico-contribution-48@ictp.it
DESCRIPTION:Speakers: SEYEDEH MOZHDEH FADAIE (Koc University)\n//indico.ic
 tp.it/event/8705/session/5/contribution/48
LOCATION:ICTP Leonardo Building - Budinich Lecture Hall
URL://indico.ictp.it/event/8705/session/5/contribution/48
END:VEVENT
END:VCALENDAR
