BEGIN:VCALENDAR
VERSION:2.0
PRODID:-//CERN//INDICO//EN
BEGIN:VEVENT
SUMMARY:Irreversibility and the quantum arrow of time
DTSTART;VALUE=DATE-TIME:20190731T090000Z
DTEND;VALUE=DATE-TIME:20190731T094000Z
DTSTAMP;VALUE=DATE-TIME:20240229T214608Z
UID:indico-contribution-53@ictp.it
DESCRIPTION:Speakers: ERIC LUTZ (University of Stuttgart)\n//indico.ictp.i
 t/event/8705/session/6/contribution/53
LOCATION:ICTP Leonardo Building - Budinich Lecture Hall
URL://indico.ictp.it/event/8705/session/6/contribution/53
END:VEVENT
END:VCALENDAR
