BEGIN:VCALENDAR
VERSION:2.0
PRODID:-//CERN//INDICO//EN
BEGIN:VEVENT
SUMMARY:Author Carpentry Copyright and Data Licensing around disseminating
  your report ("A Dramatic Interpretation in 3 parts")
DTSTART;VALUE=DATE-TIME:20190809T063000Z
DTEND;VALUE=DATE-TIME:20190809T080000Z
DTSTAMP;VALUE=DATE-TIME:20240229T214301Z
UID:indico-contribution-24@ictp.it
DESCRIPTION:Speakers: GAIL CLEMENT PERETSMANN (CalTech)\n//indico.ictp.it/
 event/8706/session/5/contribution/24
LOCATION:ICTP Kastler Lecture Hall (AGH)
URL://indico.ictp.it/event/8706/session/5/contribution/24
END:VEVENT
END:VCALENDAR
