BEGIN:VCALENDAR
VERSION:2.0
PRODID:-//CERN//INDICO//EN
BEGIN:VEVENT
SUMMARY:Open Science 2
DTSTART;VALUE=DATE-TIME:20190809T083000Z
DTEND;VALUE=DATE-TIME:20190809T100000Z
DTSTAMP;VALUE=DATE-TIME:20240229T214136Z
UID:indico-contribution-25@ictp.it
DESCRIPTION:Speakers: LOUISE BEZUIDENHOUT (INSIS\, University of Oxford)\n
 //indico.ictp.it/event/8706/session/5/contribution/25
LOCATION:ICTP Kastler Lecture Hall (AGH)
URL://indico.ictp.it/event/8706/session/5/contribution/25
END:VEVENT
END:VCALENDAR
