BEGIN:VCALENDAR
VERSION:2.0
PRODID:-//CERN//INDICO//EN
BEGIN:VEVENT
SUMMARY:Machine Learning Overview - Recommendation
DTSTART;VALUE=DATE-TIME:20190813T063000Z
DTEND;VALUE=DATE-TIME:20190813T083000Z
DTSTAMP;VALUE=DATE-TIME:20240229T214249Z
UID:indico-contribution-37@ictp.it
DESCRIPTION:Speakers: EKPE OKORAFOR (African University of Science & Techn
 ology)\n//indico.ictp.it/event/8706/session/9/contribution/37
LOCATION:ICTP Kastler Lecture Hall (AGH)
URL://indico.ictp.it/event/8706/session/9/contribution/37
END:VEVENT
END:VCALENDAR
