BEGIN:VCALENDAR
VERSION:2.0
PRODID:-//CERN//INDICO//EN
BEGIN:VEVENT
SUMMARY:Open Science & RCR Overview 1
DTSTART;VALUE=DATE-TIME:20190805T065000Z
DTEND;VALUE=DATE-TIME:20190805T084000Z
DTSTAMP;VALUE=DATE-TIME:20240229T214219Z
UID:indico-contribution-5@ictp.it
DESCRIPTION:Speakers: LOUISE BEZUIDENHOUT (INSIS\, University of Oxford)\n
 //indico.ictp.it/event/8706/session/21/contribution/5
LOCATION:ICTP Adriatico Guesthouse - Kastler Lecture Hall
URL://indico.ictp.it/event/8706/session/21/contribution/5
END:VEVENT
END:VCALENDAR
