BEGIN:VCALENDAR
VERSION:2.0
PRODID:-//CERN//INDICO//EN
BEGIN:VEVENT
SUMMARY:Ethics exercise for Git
DTSTART;VALUE=DATE-TIME:20190806T104500Z
DTEND;VALUE=DATE-TIME:20190806T110000Z
DTSTAMP;VALUE=DATE-TIME:20240229T214131Z
UID:indico-contribution-74@ictp.it
DESCRIPTION:Speakers: \n//indico.ictp.it/event/8706/session/2/contribution
 /74
LOCATION:ICTP Kastler Lecture Hall (AGH)
URL://indico.ictp.it/event/8706/session/2/contribution/74
END:VEVENT
END:VCALENDAR
