BEGIN:VCALENDAR
VERSION:2.0
PRODID:-//CERN//INDICO//EN
BEGIN:VEVENT
SUMMARY:Data discovery\, automated DMP's
DTSTART;VALUE=DATE-TIME:20190813T063000Z
DTEND;VALUE=DATE-TIME:20190813T083000Z
DTSTAMP;VALUE=DATE-TIME:20240229T214114Z
UID:indico-contribution-10-0-41@ictp.it
DESCRIPTION:Speakers: JOY DAVIDSON (DCC\, UNIVERSITY OF GLASGOW)\,  SHANMU
 GASUNDARAM VENKATARAMAN (DCC\, UNIVERSITY OF EDINBURGH)\, STEVE DIGGS SCRI
 PPS INSTITUTE\, UCSD ()\n//indico.ictp.it/event/8706/session/10/contributi
 on/41
LOCATION:ICTP Kastler Lecture Hall (AGH)
URL://indico.ictp.it/event/8706/session/10/contribution/41
END:VEVENT
BEGIN:VEVENT
SUMMARY:Data discovery\, automated DMP's
DTSTART;VALUE=DATE-TIME:20190813T090000Z
DTEND;VALUE=DATE-TIME:20190813T110000Z
DTSTAMP;VALUE=DATE-TIME:20240229T214114Z
UID:indico-contribution-10-0-42@ictp.it
DESCRIPTION:Speakers: JOY DAVIDSON (DCC\, UNIVERSITY OF GLASGOW)\,  SHANMU
 GASUNDARAM VENKATARAMAN (DCC\, UNIVERSITY OF EDINBURGH)\, STEVE DIGGS (SCR
 IPPS INSTITUTE\, UCSD) ()\n//indico.ictp.it/event/8706/session/10/contribu
 tion/42
LOCATION:ICTP Kastler Lecture Hall (AGH)
URL://indico.ictp.it/event/8706/session/10/contribution/42
END:VEVENT
BEGIN:VEVENT
SUMMARY:Repositories
DTSTART;VALUE=DATE-TIME:20190813T120000Z
DTEND;VALUE=DATE-TIME:20190813T140000Z
DTSTAMP;VALUE=DATE-TIME:20240229T214114Z
UID:indico-contribution-10-0-43@ictp.it
DESCRIPTION:Speakers: MARJAN GROOTVELD (DANS)\n//indico.ictp.it/event/8706
 /session/10/contribution/43
LOCATION:ICTP Kastler Lecture Hall (AGH)
URL://indico.ictp.it/event/8706/session/10/contribution/43
END:VEVENT
BEGIN:VEVENT
SUMMARY:Repositories
DTSTART;VALUE=DATE-TIME:20190813T143000Z
DTEND;VALUE=DATE-TIME:20190813T160000Z
DTSTAMP;VALUE=DATE-TIME:20240229T214114Z
UID:indico-contribution-10-0-44@ictp.it
DESCRIPTION:Speakers: MARJAN GROOTVELD (DANS)\n//indico.ictp.it/event/8706
 /session/10/contribution/44
LOCATION:ICTP Kastler Lecture Hall (AGH)
URL://indico.ictp.it/event/8706/session/10/contribution/44
END:VEVENT
END:VCALENDAR
