BEGIN:VCALENDAR
VERSION:2.0
PRODID:-//CERN//INDICO//EN
BEGIN:VEVENT
SUMMARY:Quantum thermoelectricity (experiments) 2
DTSTART;VALUE=DATE-TIME:20190814T090000Z
DTEND;VALUE=DATE-TIME:20190814T103000Z
DTSTAMP;VALUE=DATE-TIME:20240229T213443Z
UID:indico-contribution-349@ictp.it
DESCRIPTION:Speakers: LAURENS MOLENKAMP (University of Wuerzburg)\n//indic
 o.ictp.it/event/8714/session/79/contribution/349
LOCATION:ICTP Budinich Lecture Hall
URL://indico.ictp.it/event/8714/session/79/contribution/349
END:VEVENT
END:VCALENDAR
