BEGIN:VCALENDAR
VERSION:2.0
PRODID:-//CERN//INDICO//EN
BEGIN:VEVENT
SUMMARY:Quantum thermoelectricity (experiments) 3
DTSTART;VALUE=DATE-TIME:20190815T070000Z
DTEND;VALUE=DATE-TIME:20190815T083000Z
DTSTAMP;VALUE=DATE-TIME:20240229T213415Z
UID:indico-contribution-352@ictp.it
DESCRIPTION:Speakers: LAURENS MOLENKAMP (University of Wuerzburg)\n//indic
 o.ictp.it/event/8714/session/80/contribution/352
LOCATION:ICTP Budinich Lecture Hall
URL://indico.ictp.it/event/8714/session/80/contribution/352
END:VEVENT
END:VCALENDAR
