BEGIN:VCALENDAR
VERSION:2.0
PRODID:-//CERN//INDICO//EN
BEGIN:VEVENT
SUMMARY:Posters and discussions
DTSTART;VALUE=DATE-TIME:20190815T140000Z
DTEND;VALUE=DATE-TIME:20190815T153000Z
DTSTAMP;VALUE=DATE-TIME:20240229T213726Z
UID:indico-contribution-355@ictp.it
DESCRIPTION:Speakers: \n//indico.ictp.it/event/8714/session/80/contributio
 n/355
LOCATION:ICTP Budinich Lecture Hall
URL://indico.ictp.it/event/8714/session/80/contribution/355
END:VEVENT
END:VCALENDAR
