BEGIN:VCALENDAR
VERSION:2.0
PRODID:-//CERN//INDICO//EN
BEGIN:VEVENT
SUMMARY:Quantum dissipation 3
DTSTART;VALUE=DATE-TIME:20190816T090000Z
DTEND;VALUE=DATE-TIME:20190816T103000Z
DTSTAMP;VALUE=DATE-TIME:20240229T213657Z
UID:indico-contribution-357@ictp.it
DESCRIPTION:Speakers: ROSARIO FAZIO (ICTP)\n//indico.ictp.it/event/8714/se
 ssion/81/contribution/357
LOCATION:ICTP Budinich Lecture Hall
URL://indico.ictp.it/event/8714/session/81/contribution/357
END:VEVENT
END:VCALENDAR
