BEGIN:VCALENDAR
VERSION:2.0
PRODID:-//CERN//INDICO//EN
BEGIN:VEVENT
SUMMARY:Passivity Deformation Approach to High Resolution Thermodynamics i
 n Isolated Quantum Setups
DTSTART;VALUE=DATE-TIME:20190826T081500Z
DTEND;VALUE=DATE-TIME:20190826T090000Z
DTSTAMP;VALUE=DATE-TIME:20240229T213348Z
UID:indico-contribution-381@ictp.it
DESCRIPTION:Speakers: RAAM UZDIN (Fritz Haber Center Hebrew University\, J
 erusalem)\n//indico.ictp.it/event/8714/session/87/contribution/381
LOCATION:ICTP Budinich Lecture Hall
URL://indico.ictp.it/event/8714/session/87/contribution/381
END:VEVENT
END:VCALENDAR
