BEGIN:VCALENDAR
VERSION:2.0
PRODID:-//CERN//INDICO//EN
BEGIN:VEVENT
SUMMARY:Exact analysis of quantum phases in holonomic qubit manipulations
DTSTART;VALUE=DATE-TIME:20190826T124500Z
DTEND;VALUE=DATE-TIME:20190826T133000Z
DTSTAMP;VALUE=DATE-TIME:20240229T213451Z
UID:indico-contribution-384@ictp.it
DESCRIPTION:Speakers: ANTON RAMSAK (University of Ljubljana)\n//indico.ict
 p.it/event/8714/session/87/contribution/384
LOCATION:ICTP Budinich Lecture Hall
URL://indico.ictp.it/event/8714/session/87/contribution/384
END:VEVENT
END:VCALENDAR
