BEGIN:VCALENDAR
VERSION:2.0
PRODID:-//CERN//INDICO//EN
BEGIN:VEVENT
SUMMARY:Fingerprint of topological Andreev bound states in electrical and 
 heat transport
DTSTART;VALUE=DATE-TIME:20190826T140000Z
DTEND;VALUE=DATE-TIME:20190826T144500Z
DTSTAMP;VALUE=DATE-TIME:20240229T213653Z
UID:indico-contribution-385@ictp.it
DESCRIPTION:Speakers: EWELINA HANKIEWICZ (University of Würzburg)\n//indi
 co.ictp.it/event/8714/session/87/contribution/385
LOCATION:ICTP Budinich Lecture Hall
URL://indico.ictp.it/event/8714/session/87/contribution/385
END:VEVENT
END:VCALENDAR
