BEGIN:VCALENDAR
VERSION:2.0
PRODID:-//CERN//INDICO//EN
BEGIN:VEVENT
SUMMARY:Quantum thermodynamics of adiabatically driven system: Deriving ma
 ster equations using non-equilibrium Green's function
DTSTART;VALUE=DATE-TIME:20190826T150500Z
DTEND;VALUE=DATE-TIME:20190826T151500Z
DTSTAMP;VALUE=DATE-TIME:20240229T213652Z
UID:indico-contribution-388@ictp.it
DESCRIPTION:Speakers: BIBEK BHANDARI (Scuola Normale Superiore\, Pisa)\n//
 indico.ictp.it/event/8714/session/87/contribution/388
LOCATION:ICTP Budinich Lecture Hall
URL://indico.ictp.it/event/8714/session/87/contribution/388
END:VEVENT
END:VCALENDAR
